BEGIN:VCALENDAR
PRODID:-//PUBBLE//agenda//NL
VERSION:2.0
METHOD:PUBLISH
BEGIN:VEVENT
DTSTART:20260114T110000Z
DTEND:20260114T120000Z
DTSTAMP:20260420T084445Z
UID:10662a8c-8a4b-4bd7-ae17-7d9a4935120a
CREATED:20260420T084445Z
NAME:Bingo in ‘t Achterom weekblad-wegwijs.nl
X-WR-CALNAME:Bingo in ‘t Achterom
X-ALT-DESC;FMTTYPE=text/html:<a href='/agenda/2026/1/14/bingo-in-t-achterom-17264'>/agenda/2026/1/14/bingo-in-t-achterom-17264</a> || <p pstyle="Agenda platte tekst">Iedere eerste dinsdag van de maand kunt u in het Achterom terecht voor bingo voor 55-plussers. Om 14.00 uur starten ze en het duurt ongeveer tot 16.00 uur.&nbsp;</p>
DESCRIPTION:<a href='/agenda/2026/1/14/bingo-in-t-achterom-17264'>/agenda/2026/1/14/bingo-in-t-achterom-17264</a> || <p pstyle="Agenda platte tekst">Iedere eerste dinsdag van de maand kunt u in het Achterom terecht voor bingo voor 55-plussers. Om 14.00 uur starten ze en het duurt ongeveer tot 16.00 uur.&nbsp;</p>
LAST-MODIFIED:20260420T084445Z
LOCATION: 't Achterom | Homberg 2535 Wijchen
SEQUENCE:0
STATUS:CONFIRMED
SUMMARY:Bingo in ‘t Achterom
TRANSP:OPAQUE
END:VEVENT
END:VCALENDAR
